BEGIN:VCALENDAR
VERSION:2.0
PRODID:-//Shevet Galim - ECPv6.15.11//NONSGML v1.0//EN
CALSCALE:GREGORIAN
METHOD:PUBLISH
X-WR-CALNAME:Shevet Galim
X-ORIGINAL-URL:https://www.shevetgalim.com
X-WR-CALDESC:Events for Shevet Galim
REFRESH-INTERVAL;VALUE=DURATION:PT1H
X-Robots-Tag:noindex
X-PUBLISHED-TTL:PT1H
BEGIN:VTIMEZONE
TZID:America/Los_Angeles
BEGIN:DAYLIGHT
TZOFFSETFROM:-0800
TZOFFSETTO:-0700
TZNAME:PDT
DTSTART:20170312T100000
END:DAYLIGHT
BEGIN:STANDARD
TZOFFSETFROM:-0700
TZOFFSETTO:-0800
TZNAME:PST
DTSTART:20171105T090000
END:STANDARD
BEGIN:DAYLIGHT
TZOFFSETFROM:-0800
TZOFFSETTO:-0700
TZNAME:PDT
DTSTART:20180311T100000
END:DAYLIGHT
BEGIN:STANDARD
TZOFFSETFROM:-0700
TZOFFSETTO:-0800
TZNAME:PST
DTSTART:20181104T090000
END:STANDARD
BEGIN:DAYLIGHT
TZOFFSETFROM:-0800
TZOFFSETTO:-0700
TZNAME:PDT
DTSTART:20190310T100000
END:DAYLIGHT
BEGIN:STANDARD
TZOFFSETFROM:-0700
TZOFFSETTO:-0800
TZNAME:PST
DTSTART:20191103T090000
END:STANDARD
BEGIN:DAYLIGHT
TZOFFSETFROM:-0800
TZOFFSETTO:-0700
TZNAME:PDT
DTSTART:20200308T100000
END:DAYLIGHT
BEGIN:STANDARD
TZOFFSETFROM:-0700
TZOFFSETTO:-0800
TZNAME:PST
DTSTART:20201101T090000
END:STANDARD
END:VTIMEZONE
BEGIN:VEVENT
DTSTART;TZID=America/Los_Angeles:20190117T150000
DTEND;TZID=America/Los_Angeles:20190121T170000
DTSTAMP:20260424T170328
CREATED:20180711T014729Z
LAST-MODIFIED:20180711T014729Z
UID:2875-1547737200-1548090000@www.shevetgalim.com
SUMMARY:Machane Tet
DESCRIPTION:
URL:https://www.shevetgalim.com/event/machane-tet-2/
END:VEVENT
BEGIN:VEVENT
DTSTART;TZID=America/Los_Angeles:20190113T150000
DTEND;TZID=America/Los_Angeles:20190113T170000
DTSTAMP:20260424T170328
CREATED:20180711T014729Z
LAST-MODIFIED:20180711T014729Z
UID:2874-1547391600-1547398800@www.shevetgalim.com
SUMMARY:Peula
DESCRIPTION:
URL:https://www.shevetgalim.com/event/peula-8/
CATEGORIES:Regular Peula
END:VEVENT
BEGIN:VEVENT
DTSTART;TZID=America/Los_Angeles:20190106T150000
DTEND;TZID=America/Los_Angeles:20190106T170000
DTSTAMP:20260424T170328
CREATED:20180711T014727Z
LAST-MODIFIED:20180711T014727Z
UID:2873-1546786800-1546794000@www.shevetgalim.com
SUMMARY:Peula
DESCRIPTION:
URL:https://www.shevetgalim.com/event/peula-7/
CATEGORIES:Regular Peula
END:VEVENT
BEGIN:VEVENT
DTSTART;TZID=America/Los_Angeles:20181230T150000
DTEND;TZID=America/Los_Angeles:20181230T170000
DTSTAMP:20260424T170328
CREATED:20180711T014727Z
LAST-MODIFIED:20180711T014727Z
UID:2872-1546182000-1546189200@www.shevetgalim.com
SUMMARY:Winter Break → No Peula
DESCRIPTION:
URL:https://www.shevetgalim.com/event/winter-break-%e2%86%92-no-peula-2/
END:VEVENT
BEGIN:VEVENT
DTSTART;TZID=America/Los_Angeles:20181223T150000
DTEND;TZID=America/Los_Angeles:20181223T170000
DTSTAMP:20260424T170328
CREATED:20180711T014727Z
LAST-MODIFIED:20180711T014727Z
UID:2871-1545577200-1545584400@www.shevetgalim.com
SUMMARY:Winter Break → No Peula
DESCRIPTION:
URL:https://www.shevetgalim.com/event/winter-break-%e2%86%92-no-peula/
END:VEVENT
BEGIN:VEVENT
DTSTART;TZID=America/Los_Angeles:20181214T150000
DTEND;TZID=America/Los_Angeles:20181216T170000
DTSTAMP:20260424T170328
CREATED:20180711T014727Z
LAST-MODIFIED:20180711T014727Z
UID:2870-1544799600-1544979600@www.shevetgalim.com
SUMMARY:Machane Horef (grades 3-12) → No Peula
DESCRIPTION:
URL:https://www.shevetgalim.com/event/machane-horef-grades-3-12-%e2%86%92-no-peula/
END:VEVENT
BEGIN:VEVENT
DTSTART;TZID=America/Los_Angeles:20181209T150000
DTEND;TZID=America/Los_Angeles:20181209T170000
DTSTAMP:20260424T170328
CREATED:20180711T014726Z
LAST-MODIFIED:20180711T014726Z
UID:2869-1544367600-1544374800@www.shevetgalim.com
SUMMARY:Hanukkah Celebration
DESCRIPTION:
URL:https://www.shevetgalim.com/event/hanukkah-celebration/
END:VEVENT
BEGIN:VEVENT
DTSTART;TZID=America/Los_Angeles:20181202T150000
DTEND;TZID=America/Los_Angeles:20181202T170000
DTSTAMP:20260424T170328
CREATED:20180711T014725Z
LAST-MODIFIED:20180711T014725Z
UID:2868-1543762800-1543770000@www.shevetgalim.com
SUMMARY:Peula
DESCRIPTION:
URL:https://www.shevetgalim.com/event/peula-6/
CATEGORIES:Regular Peula
END:VEVENT
BEGIN:VEVENT
DTSTART;TZID=America/Los_Angeles:20181125T150000
DTEND;TZID=America/Los_Angeles:20181125T170000
DTSTAMP:20260424T170328
CREATED:20180711T014724Z
LAST-MODIFIED:20180711T014724Z
UID:2867-1543158000-1543165200@www.shevetgalim.com
SUMMARY:Peula
DESCRIPTION:
URL:https://www.shevetgalim.com/event/peula-5/
CATEGORIES:Regular Peula
END:VEVENT
BEGIN:VEVENT
DTSTART;TZID=America/Los_Angeles:20181118T150000
DTEND;TZID=America/Los_Angeles:20181118T170000
DTSTAMP:20260424T170328
CREATED:20180711T014724Z
LAST-MODIFIED:20180711T014724Z
UID:2866-1542553200-1542560400@www.shevetgalim.com
SUMMARY:Peula
DESCRIPTION:
URL:https://www.shevetgalim.com/event/peula-4/
CATEGORIES:Regular Peula
END:VEVENT
BEGIN:VEVENT
DTSTART;TZID=America/Los_Angeles:20181111T150000
DTEND;TZID=America/Los_Angeles:20181111T170000
DTSTAMP:20260424T170328
CREATED:20180711T014724Z
LAST-MODIFIED:20180711T014724Z
UID:2865-1541948400-1541955600@www.shevetgalim.com
SUMMARY:Peula
DESCRIPTION:
URL:https://www.shevetgalim.com/event/peula-3/
CATEGORIES:Regular Peula
END:VEVENT
BEGIN:VEVENT
DTSTART;TZID=America/Los_Angeles:20181104T150000
DTEND;TZID=America/Los_Angeles:20181104T170000
DTSTAMP:20260424T170328
CREATED:20180711T014724Z
LAST-MODIFIED:20180711T014724Z
UID:2864-1541343600-1541350800@www.shevetgalim.com
SUMMARY:Peula
DESCRIPTION:
URL:https://www.shevetgalim.com/event/peula-2/
CATEGORIES:Regular Peula
END:VEVENT
BEGIN:VEVENT
DTSTART;TZID=America/Los_Angeles:20181026T150000
DTEND;TZID=America/Los_Angeles:20181028T170000
DTSTAMP:20260424T170328
CREATED:20180711T014722Z
LAST-MODIFIED:20180711T014722Z
UID:2863-1540566000-1540746000@www.shevetgalim.com
SUMMARY:Leadership Seminar/Yom Gibush for all grades → No Peula
DESCRIPTION:
URL:https://www.shevetgalim.com/event/leadership-seminar-yom-gibush-for-all-grades-%e2%86%92-no-peula/
END:VEVENT
BEGIN:VEVENT
DTSTART;TZID=America/Los_Angeles:20181021T150000
DTEND;TZID=America/Los_Angeles:20181021T170000
DTSTAMP:20260424T170328
CREATED:20180711T014722Z
LAST-MODIFIED:20180711T014722Z
UID:2862-1540134000-1540141200@www.shevetgalim.com
SUMMARY:Peula & Rabin Memorial Ceremony
DESCRIPTION:
URL:https://www.shevetgalim.com/event/peula-rabin-memorial-ceremony/
END:VEVENT
BEGIN:VEVENT
DTSTART;TZID=America/Los_Angeles:20181014T150000
DTEND;TZID=America/Los_Angeles:20181014T170000
DTSTAMP:20260424T170328
CREATED:20180711T014721Z
LAST-MODIFIED:20180711T014721Z
UID:2861-1539529200-1539536400@www.shevetgalim.com
SUMMARY:Peula
DESCRIPTION:
URL:https://www.shevetgalim.com/event/peula/
CATEGORIES:Regular Peula
END:VEVENT
BEGIN:VEVENT
DTSTART;TZID=America/Los_Angeles:20181013T150000
DTEND;TZID=America/Los_Angeles:20181013T170000
DTSTAMP:20260424T170328
CREATED:20180711T014721Z
LAST-MODIFIED:20180711T014721Z
UID:2860-1539442800-1539450000@www.shevetgalim.com
SUMMARY:Pe’ilim Seminar
DESCRIPTION:
URL:https://www.shevetgalim.com/event/peilim-seminar-3/
END:VEVENT
BEGIN:VEVENT
DTSTART;TZID=America/Los_Angeles:20181007T090000
DTEND;TZID=America/Los_Angeles:20181007T160000
DTSTAMP:20260424T170328
CREATED:20180711T014721Z
LAST-MODIFIED:20180711T014721Z
UID:2859-1538902800-1538928000@www.shevetgalim.com
SUMMARY:Tiyul Anivot (9AM-4PM)
DESCRIPTION:
URL:https://www.shevetgalim.com/event/tiyul-anivot-9am-4pm/
END:VEVENT
BEGIN:VEVENT
DTSTART;TZID=America/Los_Angeles:20180930T150000
DTEND;TZID=America/Los_Angeles:20180930T170000
DTSTAMP:20260424T170328
CREATED:20180711T014717Z
LAST-MODIFIED:20180711T014717Z
UID:2858-1538319600-1538326800@www.shevetgalim.com
SUMMARY:Yom G’eefa (Carmel Del Mar Park)
DESCRIPTION:
URL:https://www.shevetgalim.com/event/yom-geefa-carmel-del-mar-park/
END:VEVENT
BEGIN:VEVENT
DTSTART;TZID=America/Los_Angeles:20180923T140000
DTEND;TZID=America/Los_Angeles:20180923T160000
DTSTAMP:20260424T170328
CREATED:20180711T014717Z
LAST-MODIFIED:20180711T014717Z
UID:2857-1537711200-1537718400@www.shevetgalim.com
SUMMARY:Sukkot – Early Peula 2:00-4:00
DESCRIPTION:
URL:https://www.shevetgalim.com/event/sukkot-early-peula-200-400/
END:VEVENT
BEGIN:VEVENT
DTSTART;TZID=America/Los_Angeles:20180916T151500
DTEND;TZID=America/Los_Angeles:20180916T160000
DTSTAMP:20260424T170328
CREATED:20180711T014717Z
LAST-MODIFIED:20180828T154521Z
UID:2856-1537110900-1537113600@www.shevetgalim.com
SUMMARY:1st st Peula & Parents Meeting (3:30 – 4:30)
DESCRIPTION:
URL:https://www.shevetgalim.com/event/1st-st-peula-parents-meeting-330-430/
END:VEVENT
BEGIN:VEVENT
DTSTART;TZID=America/Los_Angeles:20180902T110000
DTEND;TZID=America/Los_Angeles:20180902T140000
DTSTAMP:20260424T170328
CREATED:20180711T014717Z
LAST-MODIFIED:20180828T154358Z
UID:2855-1535886000-1535896800@www.shevetgalim.com
SUMMARY:Beach Get Together
DESCRIPTION:
URL:https://www.shevetgalim.com/event/beach-get-together/
END:VEVENT
BEGIN:VEVENT
DTSTART;TZID=America/Los_Angeles:20180902T110000
DTEND;TZID=America/Los_Angeles:20180902T140000
DTSTAMP:20260424T170328
CREATED:20170802T034512Z
LAST-MODIFIED:20180828T035117Z
UID:1471-1535886000-1535896800@www.shevetgalim.com
SUMMARY:Kick off the new year at the beach
DESCRIPTION:Shevet Galim and IAC San Diego invite you to kick off the new year with a community picnic. \nThis is a great opportunity to see friends you haven’t seen all summer long and to meet new ones. This event is open to the community\, feel free to invite your friends. \nWe will have Pizza\, drinks\, and snacks. \nBring a lawn chair or a blanket. \nSee you all at the beach! \n 
URL:https://www.shevetgalim.com/event/kick-off-the-new-year/
LOCATION:Powerhouse Park\, 1658 Coast Blvd\, Del Mar\, CA\, 92014\, United States
CATEGORIES:Community Event
ATTACH;FMTTYPE=image/jpeg:https://www.shevetgalim.com/wp-content/uploads/picnic2018.jpeg
END:VEVENT
BEGIN:VEVENT
DTSTART;TZID=America/Los_Angeles:20180825T150000
DTEND;TZID=America/Los_Angeles:20180825T170000
DTSTAMP:20260424T170328
CREATED:20180711T014716Z
LAST-MODIFIED:20180711T014716Z
UID:2854-1535209200-1535216400@www.shevetgalim.com
SUMMARY:Seminar Shachbag
DESCRIPTION:
URL:https://www.shevetgalim.com/event/seminar-shachbag/
END:VEVENT
BEGIN:VEVENT
DTSTART;TZID=America/Los_Angeles:20180610T150000
DTEND;TZID=America/Los_Angeles:20180610T180000
DTSTAMP:20260424T170328
CREATED:20170822T075032Z
LAST-MODIFIED:20180711T014005Z
UID:2078-1528642800-1528653600@www.shevetgalim.com
SUMMARY:Final Peula - Chanichim
DESCRIPTION:
URL:https://www.shevetgalim.com/event/final-peula-chanichim/
LOCATION:SDJA\, 11860 Shaw Ridge Drive\, San Diego\, CA\, 92130\, United States
CATEGORIES:Regular Peula
END:VEVENT
BEGIN:VEVENT
DTSTART;TZID=America/Los_Angeles:20180610T120000
DTEND;TZID=America/Los_Angeles:20180610T140000
DTSTAMP:20260424T170328
CREATED:20170822T075032Z
LAST-MODIFIED:20180711T014005Z
UID:2077-1528632000-1528639200@www.shevetgalim.com
SUMMARY:Final Peula - Shachbag
DESCRIPTION:
URL:https://www.shevetgalim.com/event/final-peula-shachbag/
LOCATION:SDJA\, 11860 Shaw Ridge Drive\, San Diego\, CA\, 92130\, United States
CATEGORIES:Shachbag Peula
END:VEVENT
BEGIN:VEVENT
DTSTART;TZID=America/Los_Angeles:20180603T150000
DTEND;TZID=America/Los_Angeles:20180603T170000
DTSTAMP:20260424T170328
CREATED:20170822T075032Z
LAST-MODIFIED:20180711T014005Z
UID:2076-1528038000-1528045200@www.shevetgalim.com
SUMMARY:Peula and Yom Yarok
DESCRIPTION:
URL:https://www.shevetgalim.com/event/peula-and-yom-yarok/
LOCATION:SDJA\, 11860 Shaw Ridge Drive\, San Diego\, CA\, 92130\, United States
CATEGORIES:Regular Peula
END:VEVENT
BEGIN:VEVENT
DTSTART;TZID=America/Los_Angeles:20180603T120000
DTEND;TZID=America/Los_Angeles:20180603T171500
DTSTAMP:20260424T170328
CREATED:20170822T075031Z
LAST-MODIFIED:20180711T014006Z
UID:2075-1528027200-1528046100@www.shevetgalim.com
SUMMARY:Peula - Shachbag
DESCRIPTION:
URL:https://www.shevetgalim.com/event/peula-shachbag-19/
LOCATION:SDJA\, 11860 Shaw Ridge Drive\, San Diego\, CA\, 92130\, United States
CATEGORIES:Shachbag Peula
END:VEVENT
BEGIN:VEVENT
DTSTART;VALUE=DATE:20180525
DTEND;VALUE=DATE:20180529
DTSTAMP:20260424T170328
CREATED:20170822T075028Z
LAST-MODIFIED:20180711T014006Z
UID:2074-1527206400-1527551999@www.shevetgalim.com
SUMMARY:Machane Kayitz
DESCRIPTION:
URL:https://www.shevetgalim.com/event/machane-kayitz/
CATEGORIES:Camp
END:VEVENT
BEGIN:VEVENT
DTSTART;TZID=America/Los_Angeles:20180506T150000
DTEND;TZID=America/Los_Angeles:20180506T170000
DTSTAMP:20260424T170328
CREATED:20170822T075025Z
LAST-MODIFIED:20180711T014006Z
UID:2071-1525618800-1525626000@www.shevetgalim.com
SUMMARY:Peula and Lag B'Omer - Chanichim
DESCRIPTION:
URL:https://www.shevetgalim.com/event/peula-and-lag-bomer-chanichim/
CATEGORIES:Community Event
END:VEVENT
BEGIN:VEVENT
DTSTART;TZID=America/Los_Angeles:20180506T100000
DTEND;TZID=America/Los_Angeles:20180506T143000
DTSTAMP:20260424T170328
CREATED:20170822T075025Z
LAST-MODIFIED:20180711T014006Z
UID:2070-1525600800-1525617000@www.shevetgalim.com
SUMMARY:Peula and Lag B'Omer - Shachbag
DESCRIPTION:
URL:https://www.shevetgalim.com/event/peula-and-lag-bomer-shachbag/
CATEGORIES:Community Event
END:VEVENT
END:VCALENDAR