BEGIN:VCALENDAR
VERSION:2.0
PRODID:-//Shevet Galim - ECPv6.15.11//NONSGML v1.0//EN
CALSCALE:GREGORIAN
METHOD:PUBLISH
X-ORIGINAL-URL:https://www.shevetgalim.com
X-WR-CALDESC:Events for Shevet Galim
REFRESH-INTERVAL;VALUE=DURATION:PT1H
X-Robots-Tag:noindex
X-PUBLISHED-TTL:PT1H
BEGIN:VTIMEZONE
TZID:America/Los_Angeles
BEGIN:DAYLIGHT
TZOFFSETFROM:-0800
TZOFFSETTO:-0700
TZNAME:PDT
DTSTART:20160313T100000
END:DAYLIGHT
BEGIN:STANDARD
TZOFFSETFROM:-0700
TZOFFSETTO:-0800
TZNAME:PST
DTSTART:20161106T090000
END:STANDARD
BEGIN:DAYLIGHT
TZOFFSETFROM:-0800
TZOFFSETTO:-0700
TZNAME:PDT
DTSTART:20170312T100000
END:DAYLIGHT
BEGIN:STANDARD
TZOFFSETFROM:-0700
TZOFFSETTO:-0800
TZNAME:PST
DTSTART:20171105T090000
END:STANDARD
BEGIN:DAYLIGHT
TZOFFSETFROM:-0800
TZOFFSETTO:-0700
TZNAME:PDT
DTSTART:20180311T100000
END:DAYLIGHT
BEGIN:STANDARD
TZOFFSETFROM:-0700
TZOFFSETTO:-0800
TZNAME:PST
DTSTART:20181104T090000
END:STANDARD
BEGIN:DAYLIGHT
TZOFFSETFROM:-0800
TZOFFSETTO:-0700
TZNAME:PDT
DTSTART:20190310T100000
END:DAYLIGHT
BEGIN:STANDARD
TZOFFSETFROM:-0700
TZOFFSETTO:-0800
TZNAME:PST
DTSTART:20191103T090000
END:STANDARD
END:VTIMEZONE
BEGIN:VEVENT
DTSTART;TZID=America/Los_Angeles:20180610T120000
DTEND;TZID=America/Los_Angeles:20180610T140000
DTSTAMP:20260424T134751
CREATED:20170822T075032Z
LAST-MODIFIED:20180711T014005Z
UID:2077-1528632000-1528639200@www.shevetgalim.com
SUMMARY:Final Peula - Shachbag
DESCRIPTION:
URL:https://www.shevetgalim.com/event/final-peula-shachbag/
LOCATION:SDJA\, 11860 Shaw Ridge Drive\, San Diego\, CA\, 92130\, United States
CATEGORIES:Shachbag Peula
END:VEVENT
BEGIN:VEVENT
DTSTART;TZID=America/Los_Angeles:20180603T120000
DTEND;TZID=America/Los_Angeles:20180603T171500
DTSTAMP:20260424T134751
CREATED:20170822T075031Z
LAST-MODIFIED:20180711T014006Z
UID:2075-1528027200-1528046100@www.shevetgalim.com
SUMMARY:Peula - Shachbag
DESCRIPTION:
URL:https://www.shevetgalim.com/event/peula-shachbag-19/
LOCATION:SDJA\, 11860 Shaw Ridge Drive\, San Diego\, CA\, 92130\, United States
CATEGORIES:Shachbag Peula
END:VEVENT
BEGIN:VEVENT
DTSTART;TZID=America/Los_Angeles:20180415T120000
DTEND;TZID=America/Los_Angeles:20180415T171500
DTSTAMP:20260424T134751
CREATED:20170822T075020Z
LAST-MODIFIED:20180711T014006Z
UID:2065-1523793600-1523812500@www.shevetgalim.com
SUMMARY:Peula - Shachbag
DESCRIPTION:
URL:https://www.shevetgalim.com/event/peula-shachbag-18/
LOCATION:SDJA\, 11860 Shaw Ridge Drive\, San Diego\, CA\, 92130\, United States
CATEGORIES:Shachbag Peula
END:VEVENT
BEGIN:VEVENT
DTSTART;TZID=America/Los_Angeles:20180325T120000
DTEND;TZID=America/Los_Angeles:20180325T171500
DTSTAMP:20260424T134751
CREATED:20170822T075016Z
LAST-MODIFIED:20180711T014006Z
UID:2060-1521979200-1521998100@www.shevetgalim.com
SUMMARY:Peula - Shachbag
DESCRIPTION:
URL:https://www.shevetgalim.com/event/peula-shachbag-17/
LOCATION:SDJA\, 11860 Shaw Ridge Drive\, San Diego\, CA\, 92130\, United States
CATEGORIES:Shachbag Peula
END:VEVENT
BEGIN:VEVENT
DTSTART;TZID=America/Los_Angeles:20180318T120000
DTEND;TZID=America/Los_Angeles:20180318T171500
DTSTAMP:20260424T134751
CREATED:20170822T075016Z
LAST-MODIFIED:20180711T014006Z
UID:2058-1521374400-1521393300@www.shevetgalim.com
SUMMARY:Peula - Shachbag
DESCRIPTION:
URL:https://www.shevetgalim.com/event/peula-shachbag-16/
LOCATION:SDJA\, 11860 Shaw Ridge Drive\, San Diego\, CA\, 92130\, United States
CATEGORIES:Shachbag Peula
END:VEVENT
BEGIN:VEVENT
DTSTART;TZID=America/Los_Angeles:20180311T120000
DTEND;TZID=America/Los_Angeles:20180311T171500
DTSTAMP:20260424T134751
CREATED:20170822T075012Z
LAST-MODIFIED:20170920T094937Z
UID:2056-1520769600-1520788500@www.shevetgalim.com
SUMMARY:Peula - Shachbag
DESCRIPTION:
URL:https://www.shevetgalim.com/event/peula-shachbag-15/
LOCATION:SDJA\, 11860 Shaw Ridge Drive\, San Diego\, CA\, 92130\, United States
CATEGORIES:Shachbag Peula
END:VEVENT
BEGIN:VEVENT
DTSTART;TZID=America/Los_Angeles:20180225T120000
DTEND;TZID=America/Los_Angeles:20180225T171500
DTSTAMP:20260424T134751
CREATED:20170822T075008Z
LAST-MODIFIED:20170920T094944Z
UID:2051-1519560000-1519578900@www.shevetgalim.com
SUMMARY:Peula - Shachbag
DESCRIPTION:
URL:https://www.shevetgalim.com/event/peula-shachbag-14/
LOCATION:SDJA\, 11860 Shaw Ridge Drive\, San Diego\, CA\, 92130\, United States
CATEGORIES:Shachbag Peula
END:VEVENT
BEGIN:VEVENT
DTSTART;TZID=America/Los_Angeles:20180121T123000
DTEND;TZID=America/Los_Angeles:20180121T143000
DTSTAMP:20260424T134751
CREATED:20170822T074959Z
LAST-MODIFIED:20170822T074959Z
UID:2041-1516537800-1516545000@www.shevetgalim.com
SUMMARY:Peula - Shachbag
DESCRIPTION:
URL:https://www.shevetgalim.com/event/peula-shachbag-13/
LOCATION:SDJA\, 11860 Shaw Ridge Drive\, San Diego\, CA\, 92130\, United States
CATEGORIES:Shachbag Peula
END:VEVENT
BEGIN:VEVENT
DTSTART;TZID=America/Los_Angeles:20180114T120000
DTEND;TZID=America/Los_Angeles:20180114T171500
DTSTAMP:20260424T134751
CREATED:20170822T074958Z
LAST-MODIFIED:20170920T095005Z
UID:2039-1515931200-1515950100@www.shevetgalim.com
SUMMARY:Peula - Shachbag
DESCRIPTION:
URL:https://www.shevetgalim.com/event/peula-shachbag-12/
LOCATION:SDJA\, 11860 Shaw Ridge Drive\, San Diego\, CA\, 92130\, United States
CATEGORIES:Shachbag Peula
END:VEVENT
BEGIN:VEVENT
DTSTART;TZID=America/Los_Angeles:20180107T120000
DTEND;TZID=America/Los_Angeles:20180107T171500
DTSTAMP:20260424T134751
CREATED:20170822T074958Z
LAST-MODIFIED:20170920T095015Z
UID:2037-1515326400-1515345300@www.shevetgalim.com
SUMMARY:Peula - Shachbag
DESCRIPTION:
URL:https://www.shevetgalim.com/event/peula-shachbag-11/
LOCATION:SDJA\, 11860 Shaw Ridge Drive\, San Diego\, CA\, 92130\, United States
CATEGORIES:Shachbag Peula
END:VEVENT
BEGIN:VEVENT
DTSTART;TZID=America/Los_Angeles:20171217T120000
DTEND;TZID=America/Los_Angeles:20171217T171500
DTSTAMP:20260424T134751
CREATED:20170821T083529Z
LAST-MODIFIED:20170920T095022Z
UID:1994-1513512000-1513530900@www.shevetgalim.com
SUMMARY:Peula - Shachbag
DESCRIPTION:
URL:https://www.shevetgalim.com/event/peula-shachbag-10/
LOCATION:SDJA\, 11860 Shaw Ridge Drive\, San Diego\, CA\, 92130\, United States
CATEGORIES:Shachbag Peula
END:VEVENT
BEGIN:VEVENT
DTSTART;TZID=America/Los_Angeles:20171210T120000
DTEND;TZID=America/Los_Angeles:20171210T171500
DTSTAMP:20260424T134751
CREATED:20170821T083528Z
LAST-MODIFIED:20170920T095031Z
UID:1992-1512907200-1512926100@www.shevetgalim.com
SUMMARY:Peula - Shachbag
DESCRIPTION:
URL:https://www.shevetgalim.com/event/peula-shachbag-9/
LOCATION:SDJA\, 11860 Shaw Ridge Drive\, San Diego\, CA\, 92130\, United States
CATEGORIES:Shachbag Peula
END:VEVENT
BEGIN:VEVENT
DTSTART;TZID=America/Los_Angeles:20171126T120000
DTEND;TZID=America/Los_Angeles:20171126T171500
DTSTAMP:20260424T134751
CREATED:20170821T083524Z
LAST-MODIFIED:20170920T095041Z
UID:1989-1511697600-1511716500@www.shevetgalim.com
SUMMARY:Peula - Shachbag
DESCRIPTION:
URL:https://www.shevetgalim.com/event/peula-shachbag-8/
LOCATION:SDJA\, 11860 Shaw Ridge Drive\, San Diego\, CA\, 92130\, United States
CATEGORIES:Shachbag Peula
END:VEVENT
BEGIN:VEVENT
DTSTART;TZID=America/Los_Angeles:20171119T120000
DTEND;TZID=America/Los_Angeles:20171119T171500
DTSTAMP:20260424T134751
CREATED:20170821T083523Z
LAST-MODIFIED:20170920T095050Z
UID:1987-1511092800-1511111700@www.shevetgalim.com
SUMMARY:Peula - Shachbag
DESCRIPTION:
URL:https://www.shevetgalim.com/event/peula-shachbag-7/
LOCATION:SDJA\, 11860 Shaw Ridge Drive\, San Diego\, CA\, 92130\, United States
CATEGORIES:Shachbag Peula
END:VEVENT
BEGIN:VEVENT
DTSTART;TZID=America/Los_Angeles:20171105T120000
DTEND;TZID=America/Los_Angeles:20171105T171500
DTSTAMP:20260424T134751
CREATED:20170821T083519Z
LAST-MODIFIED:20170920T095108Z
UID:1982-1509883200-1509902100@www.shevetgalim.com
SUMMARY:Peula - Shachbag
DESCRIPTION:
URL:https://www.shevetgalim.com/event/peula-shachbag-5/
LOCATION:SDJA\, 11860 Shaw Ridge Drive\, San Diego\, CA\, 92130\, United States
CATEGORIES:Shachbag Peula
END:VEVENT
BEGIN:VEVENT
DTSTART;TZID=America/Los_Angeles:20171022T120000
DTEND;TZID=America/Los_Angeles:20171022T171500
DTSTAMP:20260424T134751
CREATED:20170821T083514Z
LAST-MODIFIED:20170920T095116Z
UID:1977-1508673600-1508692500@www.shevetgalim.com
SUMMARY:Peula - Shachbag
DESCRIPTION:
URL:https://www.shevetgalim.com/event/peula-shachbag-4/
LOCATION:SDJA\, 11860 Shaw Ridge Drive\, San Diego\, CA\, 92130\, United States
CATEGORIES:Shachbag Peula
END:VEVENT
BEGIN:VEVENT
DTSTART;TZID=America/Los_Angeles:20171015T120000
DTEND;TZID=America/Los_Angeles:20171015T171500
DTSTAMP:20260424T134751
CREATED:20170821T083520Z
LAST-MODIFIED:20171031T201327Z
UID:1985-1508068800-1508087700@www.shevetgalim.com
SUMMARY:Peula - Shachbag (Yom Mayim)
DESCRIPTION:
URL:https://www.shevetgalim.com/event/peula-shachbag-6/
LOCATION:SDJA\, 11860 Shaw Ridge Drive\, San Diego\, CA\, 92130\, United States
CATEGORIES:Shachbag Peula
END:VEVENT
BEGIN:VEVENT
DTSTART;TZID=America/Los_Angeles:20171008T120000
DTEND;TZID=America/Los_Angeles:20171008T171500
DTSTAMP:20260424T134751
CREATED:20170821T083509Z
LAST-MODIFIED:20170920T095123Z
UID:1975-1507464000-1507482900@www.shevetgalim.com
SUMMARY:Peula - Shachbag
DESCRIPTION:
URL:https://www.shevetgalim.com/event/peula-shachbag-3/
LOCATION:SDJA\, 11860 Shaw Ridge Drive\, San Diego\, CA\, 92130\, United States
CATEGORIES:Shachbag Peula
END:VEVENT
BEGIN:VEVENT
DTSTART;TZID=America/Los_Angeles:20171001T120000
DTEND;TZID=America/Los_Angeles:20171001T171500
DTSTAMP:20260424T134751
CREATED:20170821T083508Z
LAST-MODIFIED:20170920T095133Z
UID:1971-1506859200-1506878100@www.shevetgalim.com
SUMMARY:Peula - Shachbag
DESCRIPTION:
URL:https://www.shevetgalim.com/event/peula-shachbag-2/
LOCATION:SDJA\, 11860 Shaw Ridge Drive\, San Diego\, CA\, 92130\, United States
CATEGORIES:Shachbag Peula
END:VEVENT
BEGIN:VEVENT
DTSTART;TZID=America/Los_Angeles:20170924T120000
DTEND;TZID=America/Los_Angeles:20170924T171500
DTSTAMP:20260424T134751
CREATED:20170821T083502Z
LAST-MODIFIED:20170920T095139Z
UID:1969-1506254400-1506273300@www.shevetgalim.com
SUMMARY:Peula - Shachbag
DESCRIPTION:
URL:https://www.shevetgalim.com/event/peula-shachbag/
LOCATION:SDJA\, 11860 Shaw Ridge Drive\, San Diego\, CA\, 92130\, United States
CATEGORIES:Shachbag Peula
END:VEVENT
BEGIN:VEVENT
DTSTART;TZID=America/Los_Angeles:20170917T120000
DTEND;TZID=America/Los_Angeles:20170917T171500
DTSTAMP:20260424T134751
CREATED:20170821T083501Z
LAST-MODIFIED:20170920T095148Z
UID:1966-1505649600-1505668500@www.shevetgalim.com
SUMMARY:First Peula - Shachbag
DESCRIPTION:
URL:https://www.shevetgalim.com/event/first-peula-shachbag/
LOCATION:SDJA\, 11860 Shaw Ridge Drive\, San Diego\, CA\, 92130\, United States
CATEGORIES:Shachbag Peula
END:VEVENT
END:VCALENDAR