BEGIN:VCALENDAR
VERSION:2.0
PRODID:-//Shevet Galim - ECPv6.15.11//NONSGML v1.0//EN
CALSCALE:GREGORIAN
METHOD:PUBLISH
X-ORIGINAL-URL:https://www.shevetgalim.com
X-WR-CALDESC:Events for Shevet Galim
REFRESH-INTERVAL;VALUE=DURATION:PT1H
X-Robots-Tag:noindex
X-PUBLISHED-TTL:PT1H
BEGIN:VTIMEZONE
TZID:America/Los_Angeles
BEGIN:DAYLIGHT
TZOFFSETFROM:-0800
TZOFFSETTO:-0700
TZNAME:PDT
DTSTART:20160313T100000
END:DAYLIGHT
BEGIN:STANDARD
TZOFFSETFROM:-0700
TZOFFSETTO:-0800
TZNAME:PST
DTSTART:20161106T090000
END:STANDARD
BEGIN:DAYLIGHT
TZOFFSETFROM:-0800
TZOFFSETTO:-0700
TZNAME:PDT
DTSTART:20170312T100000
END:DAYLIGHT
BEGIN:STANDARD
TZOFFSETFROM:-0700
TZOFFSETTO:-0800
TZNAME:PST
DTSTART:20171105T090000
END:STANDARD
BEGIN:DAYLIGHT
TZOFFSETFROM:-0800
TZOFFSETTO:-0700
TZNAME:PDT
DTSTART:20180311T100000
END:DAYLIGHT
BEGIN:STANDARD
TZOFFSETFROM:-0700
TZOFFSETTO:-0800
TZNAME:PST
DTSTART:20181104T090000
END:STANDARD
BEGIN:DAYLIGHT
TZOFFSETFROM:-0800
TZOFFSETTO:-0700
TZNAME:PDT
DTSTART:20190310T100000
END:DAYLIGHT
BEGIN:STANDARD
TZOFFSETFROM:-0700
TZOFFSETTO:-0800
TZNAME:PST
DTSTART:20191103T090000
END:STANDARD
BEGIN:DAYLIGHT
TZOFFSETFROM:-0800
TZOFFSETTO:-0700
TZNAME:PDT
DTSTART:20200308T100000
END:DAYLIGHT
BEGIN:STANDARD
TZOFFSETFROM:-0700
TZOFFSETTO:-0800
TZNAME:PST
DTSTART:20201101T090000
END:STANDARD
END:VTIMEZONE
BEGIN:VEVENT
DTSTART;TZID=America/Los_Angeles:20190317T150000
DTEND;TZID=America/Los_Angeles:20190317T170000
DTSTAMP:20260424T152321
CREATED:20180711T014734Z
LAST-MODIFIED:20180711T014734Z
UID:2884-1552834800-1552842000@www.shevetgalim.com
SUMMARY:Peula
DESCRIPTION:
URL:https://www.shevetgalim.com/event/peula-14/
CATEGORIES:Regular Peula
END:VEVENT
BEGIN:VEVENT
DTSTART;TZID=America/Los_Angeles:20190310T150000
DTEND;TZID=America/Los_Angeles:20190310T170000
DTSTAMP:20260424T152321
CREATED:20180711T014733Z
LAST-MODIFIED:20180711T014733Z
UID:2883-1552230000-1552237200@www.shevetgalim.com
SUMMARY:Peula
DESCRIPTION:
URL:https://www.shevetgalim.com/event/peula-13/
CATEGORIES:Regular Peula
END:VEVENT
BEGIN:VEVENT
DTSTART;TZID=America/Los_Angeles:20190303T150000
DTEND;TZID=America/Los_Angeles:20190303T170000
DTSTAMP:20260424T152321
CREATED:20180711T014732Z
LAST-MODIFIED:20180711T014732Z
UID:2882-1551625200-1551632400@www.shevetgalim.com
SUMMARY:Peula
DESCRIPTION:
URL:https://www.shevetgalim.com/event/peula-12/
CATEGORIES:Regular Peula
END:VEVENT
BEGIN:VEVENT
DTSTART;TZID=America/Los_Angeles:20190224T150000
DTEND;TZID=America/Los_Angeles:20190224T170000
DTSTAMP:20260424T152321
CREATED:20180711T014732Z
LAST-MODIFIED:20180711T014732Z
UID:2881-1551020400-1551027600@www.shevetgalim.com
SUMMARY:Peula
DESCRIPTION:
URL:https://www.shevetgalim.com/event/peula-11/
CATEGORIES:Regular Peula
END:VEVENT
BEGIN:VEVENT
DTSTART;TZID=America/Los_Angeles:20190210T150000
DTEND;TZID=America/Los_Angeles:20190210T170000
DTSTAMP:20260424T152321
CREATED:20180711T014732Z
LAST-MODIFIED:20180711T014732Z
UID:2879-1549810800-1549818000@www.shevetgalim.com
SUMMARY:Peula
DESCRIPTION:
URL:https://www.shevetgalim.com/event/peula-10/
CATEGORIES:Regular Peula
END:VEVENT
BEGIN:VEVENT
DTSTART;TZID=America/Los_Angeles:20190120T150000
DTEND;TZID=America/Los_Angeles:20190120T170000
DTSTAMP:20260424T152321
CREATED:20180711T014730Z
LAST-MODIFIED:20180711T014730Z
UID:2876-1547996400-1548003600@www.shevetgalim.com
SUMMARY:Peula
DESCRIPTION:
URL:https://www.shevetgalim.com/event/peula-9/
CATEGORIES:Regular Peula
END:VEVENT
BEGIN:VEVENT
DTSTART;TZID=America/Los_Angeles:20190113T150000
DTEND;TZID=America/Los_Angeles:20190113T170000
DTSTAMP:20260424T152321
CREATED:20180711T014729Z
LAST-MODIFIED:20180711T014729Z
UID:2874-1547391600-1547398800@www.shevetgalim.com
SUMMARY:Peula
DESCRIPTION:
URL:https://www.shevetgalim.com/event/peula-8/
CATEGORIES:Regular Peula
END:VEVENT
BEGIN:VEVENT
DTSTART;TZID=America/Los_Angeles:20190106T150000
DTEND;TZID=America/Los_Angeles:20190106T170000
DTSTAMP:20260424T152321
CREATED:20180711T014727Z
LAST-MODIFIED:20180711T014727Z
UID:2873-1546786800-1546794000@www.shevetgalim.com
SUMMARY:Peula
DESCRIPTION:
URL:https://www.shevetgalim.com/event/peula-7/
CATEGORIES:Regular Peula
END:VEVENT
BEGIN:VEVENT
DTSTART;TZID=America/Los_Angeles:20181202T150000
DTEND;TZID=America/Los_Angeles:20181202T170000
DTSTAMP:20260424T152321
CREATED:20180711T014725Z
LAST-MODIFIED:20180711T014725Z
UID:2868-1543762800-1543770000@www.shevetgalim.com
SUMMARY:Peula
DESCRIPTION:
URL:https://www.shevetgalim.com/event/peula-6/
CATEGORIES:Regular Peula
END:VEVENT
BEGIN:VEVENT
DTSTART;TZID=America/Los_Angeles:20181125T150000
DTEND;TZID=America/Los_Angeles:20181125T170000
DTSTAMP:20260424T152321
CREATED:20180711T014724Z
LAST-MODIFIED:20180711T014724Z
UID:2867-1543158000-1543165200@www.shevetgalim.com
SUMMARY:Peula
DESCRIPTION:
URL:https://www.shevetgalim.com/event/peula-5/
CATEGORIES:Regular Peula
END:VEVENT
BEGIN:VEVENT
DTSTART;TZID=America/Los_Angeles:20181118T150000
DTEND;TZID=America/Los_Angeles:20181118T170000
DTSTAMP:20260424T152321
CREATED:20180711T014724Z
LAST-MODIFIED:20180711T014724Z
UID:2866-1542553200-1542560400@www.shevetgalim.com
SUMMARY:Peula
DESCRIPTION:
URL:https://www.shevetgalim.com/event/peula-4/
CATEGORIES:Regular Peula
END:VEVENT
BEGIN:VEVENT
DTSTART;TZID=America/Los_Angeles:20181111T150000
DTEND;TZID=America/Los_Angeles:20181111T170000
DTSTAMP:20260424T152321
CREATED:20180711T014724Z
LAST-MODIFIED:20180711T014724Z
UID:2865-1541948400-1541955600@www.shevetgalim.com
SUMMARY:Peula
DESCRIPTION:
URL:https://www.shevetgalim.com/event/peula-3/
CATEGORIES:Regular Peula
END:VEVENT
BEGIN:VEVENT
DTSTART;TZID=America/Los_Angeles:20181104T150000
DTEND;TZID=America/Los_Angeles:20181104T170000
DTSTAMP:20260424T152321
CREATED:20180711T014724Z
LAST-MODIFIED:20180711T014724Z
UID:2864-1541343600-1541350800@www.shevetgalim.com
SUMMARY:Peula
DESCRIPTION:
URL:https://www.shevetgalim.com/event/peula-2/
CATEGORIES:Regular Peula
END:VEVENT
BEGIN:VEVENT
DTSTART;TZID=America/Los_Angeles:20181014T150000
DTEND;TZID=America/Los_Angeles:20181014T170000
DTSTAMP:20260424T152321
CREATED:20180711T014721Z
LAST-MODIFIED:20180711T014721Z
UID:2861-1539529200-1539536400@www.shevetgalim.com
SUMMARY:Peula
DESCRIPTION:
URL:https://www.shevetgalim.com/event/peula/
CATEGORIES:Regular Peula
END:VEVENT
BEGIN:VEVENT
DTSTART;TZID=America/Los_Angeles:20180610T150000
DTEND;TZID=America/Los_Angeles:20180610T180000
DTSTAMP:20260424T152321
CREATED:20170822T075032Z
LAST-MODIFIED:20180711T014005Z
UID:2078-1528642800-1528653600@www.shevetgalim.com
SUMMARY:Final Peula - Chanichim
DESCRIPTION:
URL:https://www.shevetgalim.com/event/final-peula-chanichim/
LOCATION:SDJA\, 11860 Shaw Ridge Drive\, San Diego\, CA\, 92130\, United States
CATEGORIES:Regular Peula
END:VEVENT
BEGIN:VEVENT
DTSTART;TZID=America/Los_Angeles:20180603T150000
DTEND;TZID=America/Los_Angeles:20180603T170000
DTSTAMP:20260424T152321
CREATED:20170822T075032Z
LAST-MODIFIED:20180711T014005Z
UID:2076-1528038000-1528045200@www.shevetgalim.com
SUMMARY:Peula and Yom Yarok
DESCRIPTION:
URL:https://www.shevetgalim.com/event/peula-and-yom-yarok/
LOCATION:SDJA\, 11860 Shaw Ridge Drive\, San Diego\, CA\, 92130\, United States
CATEGORIES:Regular Peula
END:VEVENT
BEGIN:VEVENT
DTSTART;TZID=America/Los_Angeles:20180415T150000
DTEND;TZID=America/Los_Angeles:20180415T160000
DTSTAMP:20260424T152321
CREATED:20170822T075021Z
LAST-MODIFIED:20180711T014006Z
UID:2066-1523804400-1523808000@www.shevetgalim.com
SUMMARY:Peula - Chanichim
DESCRIPTION:
URL:https://www.shevetgalim.com/event/peula-chanichim-17/
LOCATION:SDJA\, 11860 Shaw Ridge Drive\, San Diego\, CA\, 92130\, United States
CATEGORIES:Regular Peula
END:VEVENT
BEGIN:VEVENT
DTSTART;TZID=America/Los_Angeles:20180325T150000
DTEND;TZID=America/Los_Angeles:20180325T170000
DTSTAMP:20260424T152321
CREATED:20170822T075017Z
LAST-MODIFIED:20180711T014006Z
UID:2061-1521990000-1521997200@www.shevetgalim.com
SUMMARY:Peula - Chanichim
DESCRIPTION:
URL:https://www.shevetgalim.com/event/peula-chanichim-16/
LOCATION:SDJA\, 11860 Shaw Ridge Drive\, San Diego\, CA\, 92130\, United States
CATEGORIES:Regular Peula
END:VEVENT
BEGIN:VEVENT
DTSTART;TZID=America/Los_Angeles:20180318T150000
DTEND;TZID=America/Los_Angeles:20180318T170000
DTSTAMP:20260424T152321
CREATED:20170822T075016Z
LAST-MODIFIED:20180711T014006Z
UID:2059-1521385200-1521392400@www.shevetgalim.com
SUMMARY:Peula - Chanichim
DESCRIPTION:
URL:https://www.shevetgalim.com/event/peula-chanichim-15/
LOCATION:SDJA\, 11860 Shaw Ridge Drive\, San Diego\, CA\, 92130\, United States
CATEGORIES:Regular Peula
END:VEVENT
BEGIN:VEVENT
DTSTART;TZID=America/Los_Angeles:20180311T150000
DTEND;TZID=America/Los_Angeles:20180311T170000
DTSTAMP:20260424T152321
CREATED:20170822T075016Z
LAST-MODIFIED:20180711T014007Z
UID:2057-1520780400-1520787600@www.shevetgalim.com
SUMMARY:Peula - Chanichim
DESCRIPTION:
URL:https://www.shevetgalim.com/event/peula-chanichim-14/
LOCATION:SDJA\, 11860 Shaw Ridge Drive\, San Diego\, CA\, 92130\, United States
CATEGORIES:Regular Peula
END:VEVENT
BEGIN:VEVENT
DTSTART;TZID=America/Los_Angeles:20180225T150000
DTEND;TZID=America/Los_Angeles:20180225T170000
DTSTAMP:20260424T152321
CREATED:20170822T075011Z
LAST-MODIFIED:20170822T075011Z
UID:2052-1519570800-1519578000@www.shevetgalim.com
SUMMARY:Peula - Chanichim
DESCRIPTION:
URL:https://www.shevetgalim.com/event/peula-chanichim-13/
LOCATION:SDJA\, 11860 Shaw Ridge Drive\, San Diego\, CA\, 92130\, United States
CATEGORIES:Regular Peula
END:VEVENT
BEGIN:VEVENT
DTSTART;TZID=America/Los_Angeles:20180204T100000
DTEND;TZID=America/Los_Angeles:20180204T120000
DTSTAMP:20260424T152321
CREATED:20170822T075003Z
LAST-MODIFIED:20170822T075003Z
UID:2044-1517738400-1517745600@www.shevetgalim.com
SUMMARY:Early Peula and Yom Sport (Superbowl)
DESCRIPTION:
URL:https://www.shevetgalim.com/event/early-peula-and-yom-sport-superbowl/
LOCATION:SDJA\, 11860 Shaw Ridge Drive\, San Diego\, CA\, 92130\, United States
CATEGORIES:Regular Peula
END:VEVENT
BEGIN:VEVENT
DTSTART;TZID=America/Los_Angeles:20180121T150000
DTEND;TZID=America/Los_Angeles:20180121T170000
DTSTAMP:20260424T152321
CREATED:20170822T075003Z
LAST-MODIFIED:20170822T075003Z
UID:2042-1516546800-1516554000@www.shevetgalim.com
SUMMARY:Peula - Chanichim
DESCRIPTION:
URL:https://www.shevetgalim.com/event/peula-chanichim-12/
LOCATION:SDJA\, 11860 Shaw Ridge Drive\, San Diego\, CA\, 92130\, United States
CATEGORIES:Regular Peula
END:VEVENT
BEGIN:VEVENT
DTSTART;TZID=America/Los_Angeles:20180114T150000
DTEND;TZID=America/Los_Angeles:20180114T170000
DTSTAMP:20260424T152321
CREATED:20170822T074958Z
LAST-MODIFIED:20170822T074958Z
UID:2040-1515942000-1515949200@www.shevetgalim.com
SUMMARY:Peula - Chanichim
DESCRIPTION:
URL:https://www.shevetgalim.com/event/peula-chanichim-11/
LOCATION:SDJA\, 11860 Shaw Ridge Drive\, San Diego\, CA\, 92130\, United States
CATEGORIES:Regular Peula
END:VEVENT
BEGIN:VEVENT
DTSTART;TZID=America/Los_Angeles:20180107T150000
DTEND;TZID=America/Los_Angeles:20180107T170000
DTSTAMP:20260424T152321
CREATED:20170822T074958Z
LAST-MODIFIED:20170822T075007Z
UID:2038-1515337200-1515344400@www.shevetgalim.com
SUMMARY:Peula - Chanichim
DESCRIPTION:
URL:https://www.shevetgalim.com/event/peula-chanichim-10/
LOCATION:SDJA\, 11860 Shaw Ridge Drive\, San Diego\, CA\, 92130\, United States
CATEGORIES:Regular Peula
END:VEVENT
BEGIN:VEVENT
DTSTART;TZID=America/Los_Angeles:20171217T150000
DTEND;TZID=America/Los_Angeles:20171217T180000
DTSTAMP:20260424T152321
CREATED:20170821T083529Z
LAST-MODIFIED:20170821T084401Z
UID:1995-1513522800-1513533600@www.shevetgalim.com
SUMMARY:Peula & Chanukkah Celebration
DESCRIPTION:
URL:https://www.shevetgalim.com/event/peula-chanukkah-celebration/
LOCATION:SDJA\, 11860 Shaw Ridge Drive\, San Diego\, CA\, 92130\, United States
CATEGORIES:Community Event,Regular Peula
END:VEVENT
BEGIN:VEVENT
DTSTART;TZID=America/Los_Angeles:20171210T150000
DTEND;TZID=America/Los_Angeles:20171210T170000
DTSTAMP:20260424T152321
CREATED:20170821T083529Z
LAST-MODIFIED:20170821T083529Z
UID:1993-1512918000-1512925200@www.shevetgalim.com
SUMMARY:Peula - Chanichim
DESCRIPTION:
URL:https://www.shevetgalim.com/event/peula-chanichim-9/
LOCATION:SDJA\, 11860 Shaw Ridge Drive\, San Diego\, CA\, 92130\, United States
CATEGORIES:Regular Peula
END:VEVENT
BEGIN:VEVENT
DTSTART;TZID=America/Los_Angeles:20171126T150000
DTEND;TZID=America/Los_Angeles:20171126T170000
DTSTAMP:20260424T152321
CREATED:20170821T083524Z
LAST-MODIFIED:20170821T083524Z
UID:1990-1511708400-1511715600@www.shevetgalim.com
SUMMARY:Peula - Chanichim
DESCRIPTION:
URL:https://www.shevetgalim.com/event/peula-chanichim-8/
LOCATION:SDJA\, 11860 Shaw Ridge Drive\, San Diego\, CA\, 92130\, United States
CATEGORIES:Regular Peula
END:VEVENT
BEGIN:VEVENT
DTSTART;TZID=America/Los_Angeles:20171119T150000
DTEND;TZID=America/Los_Angeles:20171119T170000
DTSTAMP:20260424T152321
CREATED:20170821T083523Z
LAST-MODIFIED:20170821T083523Z
UID:1988-1511103600-1511110800@www.shevetgalim.com
SUMMARY:Peula - Chanichim
DESCRIPTION:
URL:https://www.shevetgalim.com/event/peula-chanichim-7/
LOCATION:SDJA\, 11860 Shaw Ridge Drive\, San Diego\, CA\, 92130\, United States
CATEGORIES:Regular Peula
END:VEVENT
BEGIN:VEVENT
DTSTART;TZID=America/Los_Angeles:20171105T150000
DTEND;TZID=America/Los_Angeles:20171105T170000
DTSTAMP:20260424T152321
CREATED:20170821T083519Z
LAST-MODIFIED:20170821T083519Z
UID:1983-1509894000-1509901200@www.shevetgalim.com
SUMMARY:Peula - Chanichim
DESCRIPTION:
URL:https://www.shevetgalim.com/event/peula-chanichim-5/
LOCATION:SDJA\, 11860 Shaw Ridge Drive\, San Diego\, CA\, 92130\, United States
CATEGORIES:Regular Peula
END:VEVENT
END:VCALENDAR