BEGIN:VCALENDAR
VERSION:2.0
PRODID:-//Shevet Galim - ECPv6.15.11//NONSGML v1.0//EN
CALSCALE:GREGORIAN
METHOD:PUBLISH
X-WR-CALNAME:Shevet Galim
X-ORIGINAL-URL:https://www.shevetgalim.com
X-WR-CALDESC:Events for Shevet Galim
REFRESH-INTERVAL;VALUE=DURATION:PT1H
X-Robots-Tag:noindex
X-PUBLISHED-TTL:PT1H
BEGIN:VTIMEZONE
TZID:America/Los_Angeles
BEGIN:DAYLIGHT
TZOFFSETFROM:-0800
TZOFFSETTO:-0700
TZNAME:PDT
DTSTART:20160313T100000
END:DAYLIGHT
BEGIN:STANDARD
TZOFFSETFROM:-0700
TZOFFSETTO:-0800
TZNAME:PST
DTSTART:20161106T090000
END:STANDARD
BEGIN:DAYLIGHT
TZOFFSETFROM:-0800
TZOFFSETTO:-0700
TZNAME:PDT
DTSTART:20170312T100000
END:DAYLIGHT
BEGIN:STANDARD
TZOFFSETFROM:-0700
TZOFFSETTO:-0800
TZNAME:PST
DTSTART:20171105T090000
END:STANDARD
BEGIN:DAYLIGHT
TZOFFSETFROM:-0800
TZOFFSETTO:-0700
TZNAME:PDT
DTSTART:20180311T100000
END:DAYLIGHT
BEGIN:STANDARD
TZOFFSETFROM:-0700
TZOFFSETTO:-0800
TZNAME:PST
DTSTART:20181104T090000
END:STANDARD
BEGIN:DAYLIGHT
TZOFFSETFROM:-0800
TZOFFSETTO:-0700
TZNAME:PDT
DTSTART:20190310T100000
END:DAYLIGHT
BEGIN:STANDARD
TZOFFSETFROM:-0700
TZOFFSETTO:-0800
TZNAME:PST
DTSTART:20191103T090000
END:STANDARD
END:VTIMEZONE
BEGIN:VEVENT
DTSTART;TZID=America/Los_Angeles:20180218T120000
DTEND;TZID=America/Los_Angeles:20180218T180000
DTSTAMP:20260424T134501
CREATED:20170822T075008Z
LAST-MODIFIED:20170822T075008Z
UID:2050-1518955200-1518976800@www.shevetgalim.com
SUMMARY:Yom Gibush
DESCRIPTION:
URL:https://www.shevetgalim.com/event/yom-gibush-2/
LOCATION:Various
CATEGORIES:Gibush
END:VEVENT
BEGIN:VEVENT
DTSTART;TZID=America/Los_Angeles:20171029T150000
DTEND;TZID=America/Los_Angeles:20171029T180000
DTSTAMP:20260424T134501
CREATED:20170821T083518Z
LAST-MODIFIED:20170821T083518Z
UID:1981-1509289200-1509300000@www.shevetgalim.com
SUMMARY:Yom Gibush
DESCRIPTION:
URL:https://www.shevetgalim.com/event/yom-gibush/
LOCATION:Various
CATEGORIES:Gibush
END:VEVENT
END:VCALENDAR