BEGIN:VCALENDAR
VERSION:2.0
PRODID:-//Shevet Galim - ECPv6.15.11//NONSGML v1.0//EN
CALSCALE:GREGORIAN
METHOD:PUBLISH
X-ORIGINAL-URL:https://www.shevetgalim.com
X-WR-CALDESC:Events for Shevet Galim
REFRESH-INTERVAL;VALUE=DURATION:PT1H
X-Robots-Tag:noindex
X-PUBLISHED-TTL:PT1H
BEGIN:VTIMEZONE
TZID:America/Los_Angeles
BEGIN:DAYLIGHT
TZOFFSETFROM:-0800
TZOFFSETTO:-0700
TZNAME:PDT
DTSTART:20170312T100000
END:DAYLIGHT
BEGIN:STANDARD
TZOFFSETFROM:-0700
TZOFFSETTO:-0800
TZNAME:PST
DTSTART:20171105T090000
END:STANDARD
BEGIN:DAYLIGHT
TZOFFSETFROM:-0800
TZOFFSETTO:-0700
TZNAME:PDT
DTSTART:20180311T100000
END:DAYLIGHT
BEGIN:STANDARD
TZOFFSETFROM:-0700
TZOFFSETTO:-0800
TZNAME:PST
DTSTART:20181104T090000
END:STANDARD
BEGIN:DAYLIGHT
TZOFFSETFROM:-0800
TZOFFSETTO:-0700
TZNAME:PDT
DTSTART:20190310T100000
END:DAYLIGHT
BEGIN:STANDARD
TZOFFSETFROM:-0700
TZOFFSETTO:-0800
TZNAME:PST
DTSTART:20191103T090000
END:STANDARD
BEGIN:DAYLIGHT
TZOFFSETFROM:-0800
TZOFFSETTO:-0700
TZNAME:PDT
DTSTART:20200308T100000
END:DAYLIGHT
BEGIN:STANDARD
TZOFFSETFROM:-0700
TZOFFSETTO:-0800
TZNAME:PST
DTSTART:20201101T090000
END:STANDARD
END:VTIMEZONE
BEGIN:VEVENT
DTSTART;TZID=America/Los_Angeles:20190407T150000
DTEND;TZID=America/Los_Angeles:20190407T170000
DTSTAMP:20260424T184452
CREATED:20180711T014735Z
LAST-MODIFIED:20180711T014735Z
UID:2887-1554649200-1554656400@www.shevetgalim.com
SUMMARY:Good Deeds Day
DESCRIPTION:
URL:https://www.shevetgalim.com/event/good-deeds-day-2/
CATEGORIES:Community Service
END:VEVENT
BEGIN:VEVENT
DTSTART;TZID=America/Los_Angeles:20180411T080000
DTEND;TZID=America/Los_Angeles:20180411T170000
DTSTAMP:20260424T184452
CREATED:20170822T075020Z
LAST-MODIFIED:20180711T014006Z
UID:2063-1523433600-1523466000@www.shevetgalim.com
SUMMARY:Good Deeds Day
DESCRIPTION:
URL:https://www.shevetgalim.com/event/good-deeds-day/
LOCATION:Various
CATEGORIES:Community Service
END:VEVENT
BEGIN:VEVENT
DTSTART;TZID=America/Los_Angeles:20180206T180000
DTEND;TZID=America/Los_Angeles:20180206T200000
DTSTAMP:20260424T184452
CREATED:20170822T075003Z
LAST-MODIFIED:20170822T075003Z
UID:2045-1517940000-1517947200@www.shevetgalim.com
SUMMARY:Grades 7 & 8 Volunteer Event #1
DESCRIPTION:
URL:https://www.shevetgalim.com/event/grades-7-8-volunteer-event-1/
LOCATION:Del Mar Motor Cars\, 3444 Tripps Court\, San Diego\, CA\, 92121\, United States
CATEGORIES:Community Service
END:VEVENT
END:VCALENDAR